BEGIN:VCALENDAR
VERSION:2.0
PRODID:-//KlassikAuto.pl - ECPv6.7.0//NONSGML v1.0//EN
CALSCALE:GREGORIAN
METHOD:PUBLISH
X-ORIGINAL-URL:https://klassikauto.pl
X-WR-CALDESC:Wydarzenia dla KlassikAuto.pl
REFRESH-INTERVAL;VALUE=DURATION:PT1H
X-Robots-Tag:noindex
X-PUBLISHED-TTL:PT1H
BEGIN:VTIMEZONE
TZID:Europe/Helsinki
BEGIN:DAYLIGHT
TZOFFSETFROM:+0200
TZOFFSETTO:+0300
TZNAME:EEST
DTSTART:20180325T010000
END:DAYLIGHT
BEGIN:STANDARD
TZOFFSETFROM:+0300
TZOFFSETTO:+0200
TZNAME:EET
DTSTART:20181028T010000
END:STANDARD
END:VTIMEZONE
BEGIN:VEVENT
DTSTART;TZID=Europe/Helsinki:20180707T080000
DTEND;TZID=Europe/Helsinki:20180902T170000
DTSTAMP:20260425T140703
CREATED:20180308T104344Z
LAST-MODIFIED:20180308T110940Z
UID:56602-1530950400-1535907600@klassikauto.pl
SUMMARY:Wystawa – Renault 120th Anniversary\, Muzeum Autoworld
DESCRIPTION:
URL:https://klassikauto.pl/impreza/wystawa-renault-120th-anniversary-muzeum-autoworld/
LOCATION:Muzeum Autoworld\, Bruksela\, Belgia
END:VEVENT
BEGIN:VEVENT
DTSTART;VALUE=DATE:20180729
DTEND;VALUE=DATE:20180806
DTSTAMP:20260425T140703
CREATED:20180308T110212Z
LAST-MODIFIED:20180308T110212Z
UID:56656-1532822400-1533513599@klassikauto.pl
SUMMARY:V Ekspedycja pojazdów zabytkowych i klasycznych\, Drynda Globetrotter\, czyli z Bieszczad do Świnoujścia
DESCRIPTION:
URL:https://klassikauto.pl/impreza/v-ekspedycja-pojazdow-zabytkowych-i-klasycznych-drynda-globetrotter-czyli-z-bieszczad-do-swinoujscia/
END:VEVENT
BEGIN:VEVENT
DTSTART;VALUE=DATE:20180802
DTEND;VALUE=DATE:20180806
DTSTAMP:20260425T140703
CREATED:20180308T111713Z
LAST-MODIFIED:20180308T111713Z
UID:56662-1533168000-1533513599@klassikauto.pl
SUMMARY:18. Karlovarská Veterán Rallye
DESCRIPTION:http://www.veteranweb.cz
URL:https://klassikauto.pl/impreza/18-karlovarska-veteran-rallye/
LOCATION:Karlove Vary\, Czechy
END:VEVENT
BEGIN:VEVENT
DTSTART;VALUE=DATE:20180803
DTEND;VALUE=DATE:20180806
DTSTAMP:20260425T140703
CREATED:20180308T111825Z
LAST-MODIFIED:20180308T111825Z
UID:56665-1533254400-1533513599@klassikauto.pl
SUMMARY:VIII Urodziny w klimacie PRL-u
DESCRIPTION:
URL:https://klassikauto.pl/impreza/viii-urodziny-w-klimacie-prl-u/
LOCATION:Siedlce
END:VEVENT
BEGIN:VEVENT
DTSTART;VALUE=DATE:20180803
DTEND;VALUE=DATE:20180806
DTSTAMP:20260425T140703
CREATED:20180402T072229Z
LAST-MODIFIED:20180402T072708Z
UID:58988-1533254400-1533513599@klassikauto.pl
SUMMARY:VI Wałbrzyski Międzynarodowy Rajd Pojazdów Zabytkowych pt. "Śladami Tajemnic"
DESCRIPTION:
URL:https://klassikauto.pl/impreza/vi-walbrzyski-miedzynarodowy-rajd-pojazdow-zabytkowych-pt-sladami-tajemnic/
LOCATION:Wałbrzych
END:VEVENT
BEGIN:VEVENT
DTSTART;TZID=Europe/Helsinki:20180803T080000
DTEND;TZID=Europe/Helsinki:20180804T170000
DTSTAMP:20260425T140703
CREATED:20180702T183227Z
LAST-MODIFIED:20180702T183227Z
UID:60895-1533283200-1533402000@klassikauto.pl
SUMMARY:Schauinsland Klassik
DESCRIPTION:
URL:https://klassikauto.pl/impreza/schauinsland-klassik/
LOCATION:Freiburg\, Niemcy
END:VEVENT
BEGIN:VEVENT
DTSTART;TZID=Europe/Helsinki:20180803T080000
DTEND;TZID=Europe/Helsinki:20180806T170000
DTSTAMP:20260425T140703
CREATED:20180308T111917Z
LAST-MODIFIED:20180308T111917Z
UID:56667-1533283200-1533574800@klassikauto.pl
SUMMARY:Classic Days Schloss Dyck
DESCRIPTION:
URL:https://klassikauto.pl/impreza/classic-days-schloss-dyck/
END:VEVENT
BEGIN:VEVENT
DTSTART;TZID=Europe/Helsinki:20180803T150000
DTEND;TZID=Europe/Helsinki:20180805T180000
DTSTAMP:20260425T140703
CREATED:20180715T085421Z
LAST-MODIFIED:20180715T085421Z
UID:61127-1533308400-1533492000@klassikauto.pl
SUMMARY:VII Zlot Samochodów Amerykańskich i Zabytkowych
DESCRIPTION:
URL:https://klassikauto.pl/impreza/vii-zlot-samochodow-amerykanskich-i-zabytkowych/
LOCATION:Grudziądz
END:VEVENT
BEGIN:VEVENT
DTSTART;TZID=Europe/Helsinki:20180803T160000
DTEND;TZID=Europe/Helsinki:20180805T180000
DTSTAMP:20260425T140703
CREATED:20180308T111553Z
LAST-MODIFIED:20180720T182846Z
UID:56659-1533312000-1533492000@klassikauto.pl
SUMMARY:III Międzynarodowy Zlot CABRIO POLAND 2018
DESCRIPTION:
URL:https://klassikauto.pl/impreza/iii-miedzynarodowy-zlot-cabrio/
LOCATION:Poznań
END:VEVENT
BEGIN:VEVENT
DTSTART;VALUE=DATE:20180804
DTEND;VALUE=DATE:20180806
DTSTAMP:20260425T140703
CREATED:20180308T112017Z
LAST-MODIFIED:20180308T112017Z
UID:56669-1533340800-1533513599@klassikauto.pl
SUMMARY:Copenhagen Historic Grand Prix
DESCRIPTION:
URL:https://klassikauto.pl/impreza/copenhagen-historic-grand-prix/
LOCATION:Kopenhaga\, Dania
END:VEVENT
BEGIN:VEVENT
DTSTART;VALUE=DATE:20180804
DTEND;VALUE=DATE:20180806
DTSTAMP:20260425T140703
CREATED:20180424T193553Z
LAST-MODIFIED:20180424T201150Z
UID:59575-1533340800-1533513599@klassikauto.pl
SUMMARY:IX Zlot Wehikuł Czasu oraz II Zlot Powrót do Przeszłości
DESCRIPTION:
URL:https://klassikauto.pl/impreza/ix-zlot-wehikul-czasu-oraz-ii-zlot-powrot-do-przeslosci/
LOCATION:Dębica
END:VEVENT
BEGIN:VEVENT
DTSTART;VALUE=DATE:20180804
DTEND;VALUE=DATE:20180806
DTSTAMP:20260425T140703
CREATED:20180702T170441Z
LAST-MODIFIED:20180702T170441Z
UID:60877-1533340800-1533513599@klassikauto.pl
SUMMARY:Zlot Zabytkowych Pojazdów
DESCRIPTION:
URL:https://klassikauto.pl/impreza/zlot-zabytkowych-pojazdow/
LOCATION:Miasteczko Galicyjskie w Nowym Sączu
END:VEVENT
END:VCALENDAR
<!-- RunCloud Hub 2026-04-25 13:07:03 -->