BEGIN:VCALENDAR
VERSION:2.0
PRODID:-//KlassikAuto.pl - ECPv6.7.0//NONSGML v1.0//EN
CALSCALE:GREGORIAN
METHOD:PUBLISH
X-ORIGINAL-URL:https://klassikauto.pl
X-WR-CALDESC:Wydarzenia dla KlassikAuto.pl
REFRESH-INTERVAL;VALUE=DURATION:PT1H
X-Robots-Tag:noindex
X-PUBLISHED-TTL:PT1H
BEGIN:VTIMEZONE
TZID:Europe/Helsinki
BEGIN:DAYLIGHT
TZOFFSETFROM:+0200
TZOFFSETTO:+0300
TZNAME:EEST
DTSTART:20180325T010000
END:DAYLIGHT
BEGIN:STANDARD
TZOFFSETFROM:+0300
TZOFFSETTO:+0200
TZNAME:EET
DTSTART:20181028T010000
END:STANDARD
END:VTIMEZONE
BEGIN:VEVENT
DTSTART;TZID=Europe/Helsinki:20180707T080000
DTEND;TZID=Europe/Helsinki:20180902T170000
DTSTAMP:20260425T140816
CREATED:20180308T104344Z
LAST-MODIFIED:20180308T110940Z
UID:56602-1530950400-1535907600@klassikauto.pl
SUMMARY:Wystawa – Renault 120th Anniversary\, Muzeum Autoworld
DESCRIPTION:
URL:https://klassikauto.pl/impreza/wystawa-renault-120th-anniversary-muzeum-autoworld/
LOCATION:Muzeum Autoworld\, Bruksela\, Belgia
END:VEVENT
BEGIN:VEVENT
DTSTART;VALUE=DATE:20180719
DTEND;VALUE=DATE:20180724
DTSTAMP:20260425T140816
CREATED:20180308T105430Z
LAST-MODIFIED:20180308T105430Z
UID:56631-1531958400-1532390399@klassikauto.pl
SUMMARY:IV Rajd kantYny i 7 urodziny kantYny
DESCRIPTION:
URL:https://klassikauto.pl/impreza/iv-rajd-kantyny-i-7-urodziny-kantyny/
LOCATION:Liszki\, Cholerzyn
END:VEVENT
BEGIN:VEVENT
DTSTART;VALUE=DATE:20180720
DTEND;VALUE=DATE:20180724
DTSTAMP:20260425T140816
CREATED:20180715T091637Z
LAST-MODIFIED:20180715T091637Z
UID:61147-1532044800-1532390399@klassikauto.pl
SUMMARY:Oldtimerowe Maluszki jadą nad Morze
DESCRIPTION:
URL:https://klassikauto.pl/impreza/oldtimerowe-maluszki-jada-nad-morze/
LOCATION:Gdańsk
END:VEVENT
BEGIN:VEVENT
DTSTART;VALUE=DATE:20180720
DTEND;VALUE=DATE:20180729
DTSTAMP:20260425T140816
CREATED:20180402T072031Z
LAST-MODIFIED:20180402T072031Z
UID:58985-1532044800-1532822399@klassikauto.pl
SUMMARY:Międzynarodowy Rajd Antycznych Automobili Ukraina 2018 „Śladami  Bohaterów Trylogii”\,
DESCRIPTION:Trasa: Hrebenne – Lwów – Tarnopol – Kamieniec Podolski – Zaleszczyki – Żółkiew
URL:https://klassikauto.pl/impreza/miedzynarodowy-rajd-antycznych-automobili-ukraina-2018-sladami-bohaterow-trylogii/
END:VEVENT
END:VCALENDAR
<!-- RunCloud Hub 2026-04-25 13:08:16 -->