BEGIN:VCALENDAR
VERSION:2.0
PRODID:-//KlassikAuto.pl - ECPv6.7.0//NONSGML v1.0//EN
CALSCALE:GREGORIAN
METHOD:PUBLISH
X-WR-CALNAME:KlassikAuto.pl
X-ORIGINAL-URL:https://klassikauto.pl
X-WR-CALDESC:Wydarzenia dla KlassikAuto.pl
REFRESH-INTERVAL;VALUE=DURATION:PT1H
X-Robots-Tag:noindex
X-PUBLISHED-TTL:PT1H
BEGIN:VTIMEZONE
TZID:Europe/Helsinki
BEGIN:DAYLIGHT
TZOFFSETFROM:+0200
TZOFFSETTO:+0300
TZNAME:EEST
DTSTART:20180325T010000
END:DAYLIGHT
BEGIN:STANDARD
TZOFFSETFROM:+0300
TZOFFSETTO:+0200
TZNAME:EET
DTSTART:20181028T010000
END:STANDARD
END:VTIMEZONE
BEGIN:VEVENT
DTSTART;TZID=Europe/Helsinki:20180707T080000
DTEND;TZID=Europe/Helsinki:20180902T170000
DTSTAMP:20260425T140622
CREATED:20180308T104344Z
LAST-MODIFIED:20180308T110940Z
UID:56602-1530950400-1535907600@klassikauto.pl
SUMMARY:Wystawa – Renault 120th Anniversary\, Muzeum Autoworld
DESCRIPTION:
URL:https://klassikauto.pl/impreza/wystawa-renault-120th-anniversary-muzeum-autoworld/
LOCATION:Muzeum Autoworld\, Bruksela\, Belgia
END:VEVENT
BEGIN:VEVENT
DTSTART;VALUE=DATE:20180711
DTEND;VALUE=DATE:20180716
DTSTAMP:20260425T140622
CREATED:20180404T184259Z
LAST-MODIFIED:20180404T184305Z
UID:59091-1531267200-1531699199@klassikauto.pl
SUMMARY:41 Międzynarodowy Beskidzki Rajd Pojazdów Zabytkowych  (FIVA "B")\,  IV runda Mistrzostw Polski
DESCRIPTION:Redakcja Klassikauto.pl objęła to wydarzenie patronatem medialnym.
URL:https://klassikauto.pl/impreza/41-miedzynarodowy-beskidzki-rajd-pojazdow-zabytkowyc-fiva-b-iv-runda-mistrzostw-polski/
LOCATION:Bielsko-Biała
END:VEVENT
BEGIN:VEVENT
DTSTART;VALUE=DATE:20180712
DTEND;VALUE=DATE:20180715
DTSTAMP:20260425T140622
CREATED:20180308T104644Z
LAST-MODIFIED:20180308T104644Z
UID:56613-1531353600-1531612799@klassikauto.pl
SUMMARY:Rally Heidelberg Historic
DESCRIPTION:
URL:https://klassikauto.pl/impreza/rally-heidelberg-historic/
END:VEVENT
BEGIN:VEVENT
DTSTART;VALUE=DATE:20180712
DTEND;VALUE=DATE:20180716
DTSTAMP:20260425T140622
CREATED:20180308T104605Z
LAST-MODIFIED:20180308T104605Z
UID:56610-1531353600-1531699199@klassikauto.pl
SUMMARY:IX Europejski Zlot Miłośników VW GarBusa Garbojama 2018
DESCRIPTION:
URL:https://klassikauto.pl/impreza/ix-europejski-zlot-milosnikow-vw-garbusa-garbojama-2018/
LOCATION:Budzyń k. Krakowa
END:VEVENT
BEGIN:VEVENT
DTSTART;TZID=Europe/Helsinki:20180712T080000
DTEND;TZID=Europe/Helsinki:20180715T170000
DTSTAMP:20260425T140622
CREATED:20180308T104726Z
LAST-MODIFIED:20180308T104726Z
UID:56615-1531382400-1531674000@klassikauto.pl
SUMMARY:Festival of Speed
DESCRIPTION:
URL:https://klassikauto.pl/impreza/festival-of-speed/
END:VEVENT
BEGIN:VEVENT
DTSTART;TZID=Europe/Helsinki:20180712T080000
DTEND;TZID=Europe/Helsinki:20180715T170000
DTSTAMP:20260425T140622
CREATED:20180308T105029Z
LAST-MODIFIED:20180308T105029Z
UID:56621-1531382400-1531674000@klassikauto.pl
SUMMARY:X Zlot Zabytkowych Citroenów
DESCRIPTION:
URL:https://klassikauto.pl/impreza/x-zlot-zabytkowych-citroenow/
LOCATION:Międzybrodzie Żywieckie
END:VEVENT
BEGIN:VEVENT
DTSTART;VALUE=DATE:20180713
DTEND;VALUE=DATE:20180714
DTSTAMP:20260425T140622
CREATED:20180308T105112Z
LAST-MODIFIED:20180309T182758Z
UID:56624-1531440000-1531526399@klassikauto.pl
SUMMARY:Aukcja\, The Goodwood Festival of Speed Sale Collector’s Motor Cars and Automobilia
DESCRIPTION:
URL:https://klassikauto.pl/impreza/aukcja-the-goodwood-festival-of-speed-sale-collectors-motor-cars-and-automobilia/
LOCATION:Goodwood
CATEGORIES:Aukcja
END:VEVENT
BEGIN:VEVENT
DTSTART;VALUE=DATE:20180713
DTEND;VALUE=DATE:20180716
DTSTAMP:20260425T140622
CREATED:20180308T104822Z
LAST-MODIFIED:20180308T104822Z
UID:56617-1531440000-1531699199@klassikauto.pl
SUMMARY:Oldtimer Meeting Baden-Baden
DESCRIPTION:
URL:https://klassikauto.pl/impreza/oldtimer-meeting-baden-baden/
END:VEVENT
BEGIN:VEVENT
DTSTART;TZID=Europe/Helsinki:20180713T080000
DTEND;TZID=Europe/Helsinki:20180715T170000
DTSTAMP:20260425T140622
CREATED:20180308T104933Z
LAST-MODIFIED:20180308T104933Z
UID:56619-1531468800-1531674000@klassikauto.pl
SUMMARY:Youngtimer Trophy 2018\, Youngtimer Festival Spa Rennen
DESCRIPTION:
URL:https://klassikauto.pl/impreza/youngtimer-trophy-2018-youngtimer-festival-spa-rennen/
LOCATION:Niemcy
END:VEVENT
END:VCALENDAR
<!-- RunCloud Hub 2026-04-25 13:06:22 -->