BEGIN:VCALENDAR
VERSION:2.0
PRODID:-//KlassikAuto.pl - ECPv6.7.0//NONSGML v1.0//EN
CALSCALE:GREGORIAN
METHOD:PUBLISH
X-ORIGINAL-URL:https://klassikauto.pl
X-WR-CALDESC:Wydarzenia dla KlassikAuto.pl
REFRESH-INTERVAL;VALUE=DURATION:PT1H
X-Robots-Tag:noindex
X-PUBLISHED-TTL:PT1H
BEGIN:VTIMEZONE
TZID:Europe/Helsinki
BEGIN:DAYLIGHT
TZOFFSETFROM:+0200
TZOFFSETTO:+0300
TZNAME:EEST
DTSTART:20180325T010000
END:DAYLIGHT
BEGIN:STANDARD
TZOFFSETFROM:+0300
TZOFFSETTO:+0200
TZNAME:EET
DTSTART:20181028T010000
END:STANDARD
END:VTIMEZONE
BEGIN:VEVENT
DTSTART;TZID=Europe/Helsinki:20180702T080000
DTEND;TZID=Europe/Helsinki:20180708T170000
DTSTAMP:20260425T140744
CREATED:20180308T103825Z
LAST-MODIFIED:20180308T104012Z
UID:56591-1530518400-1531069200@klassikauto.pl
SUMMARY:Zlot Historycznych Pojazdów Wojskowych
DESCRIPTION:
URL:https://klassikauto.pl/impreza/zlot-historycznych-pojazdow-wojskowych/
LOCATION:Darłówko
END:VEVENT
BEGIN:VEVENT
DTSTART;TZID=Europe/Helsinki:20180707T080000
DTEND;TZID=Europe/Helsinki:20180902T170000
DTSTAMP:20260425T140744
CREATED:20180308T104344Z
LAST-MODIFIED:20180308T110940Z
UID:56602-1530950400-1535907600@klassikauto.pl
SUMMARY:Wystawa – Renault 120th Anniversary\, Muzeum Autoworld
DESCRIPTION:
URL:https://klassikauto.pl/impreza/wystawa-renault-120th-anniversary-muzeum-autoworld/
LOCATION:Muzeum Autoworld\, Bruksela\, Belgia
END:VEVENT
BEGIN:VEVENT
DTSTART;VALUE=DATE:20180708
DTEND;VALUE=DATE:20180709
DTSTAMP:20260425T140744
CREATED:20180308T104428Z
LAST-MODIFIED:20180308T104428Z
UID:56605-1531008000-1531094399@klassikauto.pl
SUMMARY:VII Wystawa Pojazdów Zabytkowych\, Tucholskie Stowarzyszenie Pojazdów Zabytkowych Dragon
DESCRIPTION:
URL:https://klassikauto.pl/impreza/vii-wystawa-pojazdow-zabytkowych-tucholskie-stowarzyszenie-pojazdow-zabytkowych-dragon/
END:VEVENT
BEGIN:VEVENT
DTSTART;VALUE=DATE:20180708
DTEND;VALUE=DATE:20180709
DTSTAMP:20260425T140744
CREATED:20180308T104507Z
LAST-MODIFIED:20180308T104507Z
UID:56607-1531008000-1531094399@klassikauto.pl
SUMMARY:III Moto Retro Deptak\, Babice
DESCRIPTION:
URL:https://klassikauto.pl/impreza/iii-moto-retro-deptak-babice/
LOCATION:Babice
END:VEVENT
BEGIN:VEVENT
DTSTART;VALUE=DATE:20180708
DTEND;VALUE=DATE:20180709
DTSTAMP:20260425T140744
CREATED:20180506T055257Z
LAST-MODIFIED:20180506T055257Z
UID:59822-1531008000-1531094399@klassikauto.pl
SUMMARY:Tłokowisko 2018
DESCRIPTION:
URL:https://klassikauto.pl/impreza/tlokowisko-2018/
LOCATION:Garwolin
END:VEVENT
BEGIN:VEVENT
DTSTART;TZID=Europe/Helsinki:20180708T090000
DTEND;TZID=Europe/Helsinki:20180708T170000
DTSTAMP:20260425T140744
CREATED:20180509T162221Z
LAST-MODIFIED:20180509T162422Z
UID:59934-1531040400-1531069200@klassikauto.pl
SUMMARY:I Turystyczny Zlot Pojazdów Zabytkowych
DESCRIPTION:
URL:https://klassikauto.pl/impreza/i-turystyczny-zlot-pojazdow-zabytkowych/
LOCATION:Tychy
END:VEVENT
END:VCALENDAR
<!-- RunCloud Hub 2026-04-25 13:07:44 -->