BEGIN:VCALENDAR
VERSION:2.0
PRODID:-//KlassikAuto.pl - ECPv6.7.0//NONSGML v1.0//EN
CALSCALE:GREGORIAN
METHOD:PUBLISH
X-WR-CALNAME:KlassikAuto.pl
X-ORIGINAL-URL:https://klassikauto.pl
X-WR-CALDESC:Wydarzenia dla KlassikAuto.pl
REFRESH-INTERVAL;VALUE=DURATION:PT1H
X-Robots-Tag:noindex
X-PUBLISHED-TTL:PT1H
BEGIN:VTIMEZONE
TZID:Europe/Helsinki
BEGIN:DAYLIGHT
TZOFFSETFROM:+0200
TZOFFSETTO:+0300
TZNAME:EEST
DTSTART:20180325T010000
END:DAYLIGHT
BEGIN:STANDARD
TZOFFSETFROM:+0300
TZOFFSETTO:+0200
TZNAME:EET
DTSTART:20181028T010000
END:STANDARD
END:VTIMEZONE
BEGIN:VEVENT
DTSTART;VALUE=DATE:20180101
DTEND;VALUE=DATE:20180701
DTSTAMP:20260425T154942
CREATED:20180415T112652Z
LAST-MODIFIED:20180415T112652Z
UID:59320-1514764800-1530403199@klassikauto.pl
SUMMARY:Samochodem na wycieczkę i inne rozrywki lat 60-tych - wystawa
DESCRIPTION:Słoweńskie Muzeum Techniki\,  Bratysława
URL:https://klassikauto.pl/impreza/samochodem-na-wycieczke-i-inne-rozrywki-lat-60-tych-wystawa/
LOCATION:Bratysława\, Słowacja
END:VEVENT
BEGIN:VEVENT
DTSTART;TZID=Europe/Helsinki:20180505T080000
DTEND;TZID=Europe/Helsinki:20180701T170000
DTSTAMP:20260425T154942
CREATED:20180308T090424Z
LAST-MODIFIED:20180308T090446Z
UID:56296-1525507200-1530464400@klassikauto.pl
SUMMARY:Wystawa – The Belgians at Le Mans\, Muzeum Autoworld
DESCRIPTION:
URL:https://klassikauto.pl/impreza/wystawa-the-belgians-at-le-mans-muzeum-autoworld/
LOCATION:Belgia
END:VEVENT
BEGIN:VEVENT
DTSTART;TZID=Europe/Helsinki:20180601T080000
DTEND;TZID=Europe/Helsinki:20180617T170000
DTSTAMP:20260425T154942
CREATED:20180308T095313Z
LAST-MODIFIED:20180308T095313Z
UID:56441-1527840000-1529254800@klassikauto.pl
SUMMARY:Rumunia 2018-Wyprawa pojazdów zabytkowych
DESCRIPTION:
URL:https://klassikauto.pl/impreza/rumunia-2018-wyprawa-pojazdow-zabytkowych/
END:VEVENT
BEGIN:VEVENT
DTSTART;TZID=Europe/Helsinki:20180607T080000
DTEND;TZID=Europe/Helsinki:20180609T170000
DTSTAMP:20260425T154942
CREATED:20180308T095934Z
LAST-MODIFIED:20180308T095934Z
UID:56462-1528358400-1528563600@klassikauto.pl
SUMMARY:Oldtimer Bohemia Rally 2018\, FIVA International
DESCRIPTION:
URL:https://klassikauto.pl/impreza/oldtimer-bohemia-rally-2018-fiva-international/
LOCATION:Mlada Boleslav\, Czechy
END:VEVENT
BEGIN:VEVENT
DTSTART;TZID=Europe/Helsinki:20180607T080000
DTEND;TZID=Europe/Helsinki:20180610T170000
DTSTAMP:20260425T154942
CREATED:20180308T095852Z
LAST-MODIFIED:20180308T095852Z
UID:56460-1528358400-1528650000@klassikauto.pl
SUMMARY:Classica Mierzęcin
DESCRIPTION:
URL:https://klassikauto.pl/impreza/classica-mierzecin/
END:VEVENT
BEGIN:VEVENT
DTSTART;TZID=Europe/Helsinki:20180608T080000
DTEND;TZID=Europe/Helsinki:20180609T170000
DTSTAMP:20260425T154942
CREATED:20180308T100209Z
LAST-MODIFIED:20180308T100209Z
UID:56471-1528444800-1528563600@klassikauto.pl
SUMMARY:Paul Pietsch Classic
DESCRIPTION:
URL:https://klassikauto.pl/impreza/paul-pietsch-classic/
LOCATION:Stuttgart\, Niemcy
END:VEVENT
BEGIN:VEVENT
DTSTART;TZID=Europe/Helsinki:20180608T080000
DTEND;TZID=Europe/Helsinki:20180609T170000
DTSTAMP:20260425T154942
CREATED:20180308T100301Z
LAST-MODIFIED:20180308T100301Z
UID:56474-1528444800-1528563600@klassikauto.pl
SUMMARY:Rajd Częstochowski Pojazdów Zabytkowych
DESCRIPTION:
URL:https://klassikauto.pl/impreza/rajd-czestochowski-pojazdow-zabytkowych/
LOCATION:Żarki Letnisko
END:VEVENT
BEGIN:VEVENT
DTSTART;TZID=Europe/Helsinki:20180608T080000
DTEND;TZID=Europe/Helsinki:20180610T170000
DTSTAMP:20260425T154942
CREATED:20180308T100409Z
LAST-MODIFIED:20180308T100409Z
UID:56477-1528444800-1528650000@klassikauto.pl
SUMMARY:XI Miedwiański Zlot Pojazdów Zabytkowych
DESCRIPTION:
URL:https://klassikauto.pl/impreza/xi-miedwianski-zlot-pojazdow-zabytkowych/
LOCATION:Stargard
END:VEVENT
BEGIN:VEVENT
DTSTART;TZID=Europe/Helsinki:20180608T080000
DTEND;TZID=Europe/Helsinki:20180610T170000
DTSTAMP:20260425T154942
CREATED:20180308T100453Z
LAST-MODIFIED:20180308T100453Z
UID:56480-1528444800-1528650000@klassikauto.pl
SUMMARY:Jubilejní XV. Mezinárodní sraz Fiatů 126p\,
DESCRIPTION:
URL:https://klassikauto.pl/impreza/jubilejni-xv-mezinarodni-sraz-fiatu-126p-2/
LOCATION:Chotevice\, Czechy
END:VEVENT
BEGIN:VEVENT
DTSTART;VALUE=DATE:20180609
DTEND;VALUE=DATE:20180610
DTSTAMP:20260425T154942
CREATED:20180308T100632Z
LAST-MODIFIED:20180402T065504Z
UID:56486-1528502400-1528588799@klassikauto.pl
SUMMARY:IX Zlot Zabytkowej Motoryzacji i Rajd Księcia Władysława Druckiego-Lubeckiego
DESCRIPTION:
URL:https://klassikauto.pl/impreza/ix-zlot-zabytkowej-motoryzacji-i-rajd-ksiecia-wladyslawa-druckiego-lubeckiego/
LOCATION:Sochaczew
END:VEVENT
BEGIN:VEVENT
DTSTART;VALUE=DATE:20180609
DTEND;VALUE=DATE:20180611
DTSTAMP:20260425T154942
CREATED:20180402T142218Z
LAST-MODIFIED:20180402T142218Z
UID:59008-1528502400-1528675199@klassikauto.pl
SUMMARY:Festyn Motoryzacyjny na Skwerze Kościuszki w Gdyni
DESCRIPTION:
URL:https://klassikauto.pl/impreza/festyn-motoryzacyjny-na-skwerze-kosciuszki-w-gdyni/
LOCATION:Gdynia
END:VEVENT
BEGIN:VEVENT
DTSTART;TZID=Europe/Helsinki:20180609T080000
DTEND;TZID=Europe/Helsinki:20180610T170000
DTSTAMP:20260425T154942
CREATED:20180308T100717Z
LAST-MODIFIED:20180308T100717Z
UID:56488-1528531200-1528650000@klassikauto.pl
SUMMARY:Rajd Nadwiślański 2018
DESCRIPTION:
URL:https://klassikauto.pl/impreza/rajd-nadwislanski-2018/
LOCATION:Warszawa
END:VEVENT
BEGIN:VEVENT
DTSTART;TZID=Europe/Helsinki:20180609T150000
DTEND;TZID=Europe/Helsinki:20180609T190000
DTSTAMP:20260425T154942
CREATED:20180601T180822Z
LAST-MODIFIED:20180601T180822Z
UID:60321-1528556400-1528570800@klassikauto.pl
SUMMARY:Wystawa Klasyków - 5 Festyn z Wędką
DESCRIPTION:
URL:https://klassikauto.pl/impreza/wystawa-klasykow-5-festyn-z-wedka/
LOCATION:Chrzanów
END:VEVENT
END:VCALENDAR
<!-- RunCloud Hub 2026-04-25 14:49:42 -->