BEGIN:VCALENDAR
VERSION:2.0
PRODID:-//KlassikAuto.pl - ECPv6.7.0//NONSGML v1.0//EN
CALSCALE:GREGORIAN
METHOD:PUBLISH
X-WR-CALNAME:KlassikAuto.pl
X-ORIGINAL-URL:https://klassikauto.pl
X-WR-CALDESC:Wydarzenia dla KlassikAuto.pl
REFRESH-INTERVAL;VALUE=DURATION:PT1H
X-Robots-Tag:noindex
X-PUBLISHED-TTL:PT1H
BEGIN:VTIMEZONE
TZID:Europe/Helsinki
BEGIN:DAYLIGHT
TZOFFSETFROM:+0200
TZOFFSETTO:+0300
TZNAME:EEST
DTSTART:20180325T010000
END:DAYLIGHT
BEGIN:STANDARD
TZOFFSETFROM:+0300
TZOFFSETTO:+0200
TZNAME:EET
DTSTART:20181028T010000
END:STANDARD
END:VTIMEZONE
BEGIN:VEVENT
DTSTART;VALUE=DATE:20180101
DTEND;VALUE=DATE:20180701
DTSTAMP:20260425T181800
CREATED:20180415T112652Z
LAST-MODIFIED:20180415T112652Z
UID:59320-1514764800-1530403199@klassikauto.pl
SUMMARY:Samochodem na wycieczkę i inne rozrywki lat 60-tych - wystawa
DESCRIPTION:Słoweńskie Muzeum Techniki\,  Bratysława
URL:https://klassikauto.pl/impreza/samochodem-na-wycieczke-i-inne-rozrywki-lat-60-tych-wystawa/
LOCATION:Bratysława\, Słowacja
END:VEVENT
BEGIN:VEVENT
DTSTART;TZID=Europe/Helsinki:20180505T080000
DTEND;TZID=Europe/Helsinki:20180701T170000
DTSTAMP:20260425T181800
CREATED:20180308T090424Z
LAST-MODIFIED:20180308T090446Z
UID:56296-1525507200-1530464400@klassikauto.pl
SUMMARY:Wystawa – The Belgians at Le Mans\, Muzeum Autoworld
DESCRIPTION:
URL:https://klassikauto.pl/impreza/wystawa-the-belgians-at-le-mans-muzeum-autoworld/
LOCATION:Belgia
END:VEVENT
BEGIN:VEVENT
DTSTART;VALUE=DATE:20180524
DTEND;VALUE=DATE:20180528
DTSTAMP:20260425T181800
CREATED:20180402T071029Z
LAST-MODIFIED:20180402T071029Z
UID:58976-1527120000-1527465599@klassikauto.pl
SUMMARY:Rozpoczęcie sezonu – Rajd wiosenny – „Wrota Podlasia 2018”
DESCRIPTION:
URL:https://klassikauto.pl/impreza/rozpoczecie-sezonu-rajd-wiosenny-wrota-podlasia-2018/
LOCATION:Białystok
END:VEVENT
BEGIN:VEVENT
DTSTART;VALUE=DATE:20180524
DTEND;VALUE=DATE:20180528
DTSTAMP:20260425T181800
CREATED:20180402T071759Z
LAST-MODIFIED:20180402T072822Z
UID:58979-1527120000-1527465599@klassikauto.pl
SUMMARY:XVIII Nowodworski Międzynarodowy Rajd Pojazdów Zabytkowych „100-letnie Automobile na 100-lecie Odzyskania Niepodległości” (pojazdy do 1945 r.)
DESCRIPTION:kontakt: Komandor Rajdu Ewa Parol-Bartnicka\, tel. 606 244 217
URL:https://klassikauto.pl/impreza/xviii-nowodworski-miedzynarodowy-rajd-pojazdow-zabytkowych-100-letnie-automobile-na-100-lecie-odzyskania-niepodleglosci-pojazdy-do-1945-r/
LOCATION:Nowy Dwór Mazowiecki
END:VEVENT
BEGIN:VEVENT
DTSTART;TZID=Europe/Helsinki:20180524T080000
DTEND;TZID=Europe/Helsinki:20180526T170000
DTSTAMP:20260425T181800
CREATED:20180308T093414Z
LAST-MODIFIED:20180308T093414Z
UID:56382-1527148800-1527354000@klassikauto.pl
SUMMARY:Rajd Wiesbaden
DESCRIPTION:
URL:https://klassikauto.pl/impreza/rajd-wiesbaden/
LOCATION:Wiesbaden\, Niemcy
END:VEVENT
BEGIN:VEVENT
DTSTART;TZID=Europe/Helsinki:20180524T080000
DTEND;TZID=Europe/Helsinki:20180527T170000
DTSTAMP:20260425T181800
CREATED:20180308T093450Z
LAST-MODIFIED:20180308T093450Z
UID:56385-1527148800-1527440400@klassikauto.pl
SUMMARY:Zlot VX Garbusa
DESCRIPTION:
URL:https://klassikauto.pl/impreza/zlot-vx-garbusa-2/
LOCATION:Karwia
END:VEVENT
BEGIN:VEVENT
DTSTART;TZID=Europe/Helsinki:20180525T080000
DTEND;TZID=Europe/Helsinki:20180527T170000
DTSTAMP:20260425T181800
CREATED:20180308T093627Z
LAST-MODIFIED:20180308T093627Z
UID:56390-1527235200-1527440400@klassikauto.pl
SUMMARY:Klasikwelt Bodensee
DESCRIPTION:
URL:https://klassikauto.pl/impreza/klasikwelt-bodensee/
END:VEVENT
BEGIN:VEVENT
DTSTART;TZID=Europe/Helsinki:20180525T080000
DTEND;TZID=Europe/Helsinki:20180527T170000
DTSTAMP:20260425T181800
CREATED:20180308T093653Z
LAST-MODIFIED:20180308T093653Z
UID:56392-1527235200-1527440400@klassikauto.pl
SUMMARY:VI Obornicki Zlot Fiata 126 25-27 Maja 2018
DESCRIPTION:
URL:https://klassikauto.pl/impreza/vi-obornicki-zlot-fiata-126-25-27-maja-2018/
END:VEVENT
BEGIN:VEVENT
DTSTART;TZID=Europe/Helsinki:20180525T080000
DTEND;TZID=Europe/Helsinki:20180527T170000
DTSTAMP:20260425T181800
CREATED:20180308T093741Z
LAST-MODIFIED:20180308T093741Z
UID:56394-1527235200-1527440400@klassikauto.pl
SUMMARY:Concorso d’Eleganza Villa d’Estate
DESCRIPTION:
URL:https://klassikauto.pl/impreza/concorso-deleganza-villa-destate/
LOCATION:Włochy
END:VEVENT
BEGIN:VEVENT
DTSTART;VALUE=DATE:20180526
DTEND;VALUE=DATE:20180527
DTSTAMP:20260425T181800
CREATED:20180308T093817Z
LAST-MODIFIED:20180308T093817Z
UID:56396-1527292800-1527379199@klassikauto.pl
SUMMARY:Veteran Rallye Ostrava 2018
DESCRIPTION:
URL:https://klassikauto.pl/impreza/veteran-rallye-ostrava-2018/
LOCATION:Ostrawa\, Czechy
END:VEVENT
BEGIN:VEVENT
DTSTART;VALUE=DATE:20180526
DTEND;VALUE=DATE:20180527
DTSTAMP:20260425T181800
CREATED:20180308T093931Z
LAST-MODIFIED:20180308T093931Z
UID:56399-1527292800-1527379199@klassikauto.pl
SUMMARY:2 Zlot Fiatów 126 Na Kaszubach
DESCRIPTION:
URL:https://klassikauto.pl/impreza/2-zlot-fiatow-126-na-kaszubach/
LOCATION:Puck
END:VEVENT
BEGIN:VEVENT
DTSTART;TZID=Europe/Helsinki:20180526T080000
DTEND;TZID=Europe/Helsinki:20180527T170000
DTSTAMP:20260425T181800
CREATED:20180308T094013Z
LAST-MODIFIED:20180308T094013Z
UID:56402-1527321600-1527440400@klassikauto.pl
SUMMARY:IX Rajd Pojazdów Zabytkowych na rzecz Centrum Onkologii
DESCRIPTION:
URL:https://klassikauto.pl/impreza/ix-rajd-pojazdow-zabytkowych-na-rzecz-centrum-onkologii/
LOCATION:Kraków
END:VEVENT
END:VCALENDAR
<!-- RunCloud Hub 2026-04-25 17:18:00 -->