BEGIN:VCALENDAR
VERSION:2.0
PRODID:-//KlassikAuto.pl - ECPv6.7.0//NONSGML v1.0//EN
CALSCALE:GREGORIAN
METHOD:PUBLISH
X-ORIGINAL-URL:https://klassikauto.pl
X-WR-CALDESC:Wydarzenia dla KlassikAuto.pl
REFRESH-INTERVAL;VALUE=DURATION:PT1H
X-Robots-Tag:noindex
X-PUBLISHED-TTL:PT1H
BEGIN:VTIMEZONE
TZID:Europe/Helsinki
BEGIN:DAYLIGHT
TZOFFSETFROM:+0200
TZOFFSETTO:+0300
TZNAME:EEST
DTSTART:20180325T010000
END:DAYLIGHT
BEGIN:STANDARD
TZOFFSETFROM:+0300
TZOFFSETTO:+0200
TZNAME:EET
DTSTART:20181028T010000
END:STANDARD
END:VTIMEZONE
BEGIN:VEVENT
DTSTART;VALUE=DATE:20180101
DTEND;VALUE=DATE:20180701
DTSTAMP:20260425T181847
CREATED:20180415T112652Z
LAST-MODIFIED:20180415T112652Z
UID:59320-1514764800-1530403199@klassikauto.pl
SUMMARY:Samochodem na wycieczkę i inne rozrywki lat 60-tych - wystawa
DESCRIPTION:Słoweńskie Muzeum Techniki\,  Bratysława
URL:https://klassikauto.pl/impreza/samochodem-na-wycieczke-i-inne-rozrywki-lat-60-tych-wystawa/
LOCATION:Bratysława\, Słowacja
END:VEVENT
BEGIN:VEVENT
DTSTART;TZID=Europe/Helsinki:20180505T080000
DTEND;TZID=Europe/Helsinki:20180701T170000
DTSTAMP:20260425T181847
CREATED:20180308T090424Z
LAST-MODIFIED:20180308T090446Z
UID:56296-1525507200-1530464400@klassikauto.pl
SUMMARY:Wystawa – The Belgians at Le Mans\, Muzeum Autoworld
DESCRIPTION:
URL:https://klassikauto.pl/impreza/wystawa-the-belgians-at-le-mans-muzeum-autoworld/
LOCATION:Belgia
END:VEVENT
BEGIN:VEVENT
DTSTART;TZID=Europe/Helsinki:20180506T080000
DTEND;TZID=Europe/Helsinki:20180515T170000
DTSTAMP:20260425T181847
CREATED:20180308T091019Z
LAST-MODIFIED:20180308T091019Z
UID:56305-1525593600-1526403600@klassikauto.pl
SUMMARY:Rajd Korsyki
DESCRIPTION:
URL:https://klassikauto.pl/impreza/rajd-korsyki/
END:VEVENT
BEGIN:VEVENT
DTSTART;TZID=Europe/Helsinki:20180510T080000
DTEND;TZID=Europe/Helsinki:20180513T170000
DTSTAMP:20260425T181847
CREATED:20180308T091355Z
LAST-MODIFIED:20180308T091355Z
UID:56312-1525939200-1526230800@klassikauto.pl
SUMMARY:Arabella Classics
DESCRIPTION:
URL:https://klassikauto.pl/impreza/arabella-classics/
LOCATION:Salzburg
END:VEVENT
BEGIN:VEVENT
DTSTART;TZID=Europe/Helsinki:20180510T080000
DTEND;TZID=Europe/Helsinki:20180513T170000
DTSTAMP:20260425T181847
CREATED:20180308T091429Z
LAST-MODIFIED:20180308T091429Z
UID:56315-1525939200-1526230800@klassikauto.pl
SUMMARY:35. HMSC Oldtimerrallye
DESCRIPTION:
URL:https://klassikauto.pl/impreza/35-hmsc-oldtimerrallye/
LOCATION:Wiesbaden
END:VEVENT
BEGIN:VEVENT
DTSTART;TZID=Europe/Helsinki:20180510T080000
DTEND;TZID=Europe/Helsinki:20180513T170000
DTSTAMP:20260425T181847
CREATED:20180308T091512Z
LAST-MODIFIED:20180308T091512Z
UID:56318-1525939200-1526230800@klassikauto.pl
SUMMARY:Youngtimer Trophy 2018\, ADAC 24h Rennen Nürburgring
DESCRIPTION:
URL:https://klassikauto.pl/impreza/youngtimer-trophy-2018-adac-24h-rennen-nurburgring/
LOCATION:Niemcy
END:VEVENT
BEGIN:VEVENT
DTSTART;TZID=Europe/Helsinki:20180510T080000
DTEND;TZID=Europe/Helsinki:20180513T170000
DTSTAMP:20260425T181847
CREATED:20180308T091611Z
LAST-MODIFIED:20180308T091624Z
UID:56320-1525939200-1526230800@klassikauto.pl
SUMMARY:II Runda Mistrzostw Polski Pojazdów Zabytkowych
DESCRIPTION:
URL:https://klassikauto.pl/impreza/ii-runda-mistrzostw-polski-pojazdow-zabytkowych/
LOCATION:Warszawa
END:VEVENT
BEGIN:VEVENT
DTSTART;TZID=Europe/Helsinki:20180511T080000
DTEND;TZID=Europe/Helsinki:20180513T170000
DTSTAMP:20260425T181847
CREATED:20180308T091801Z
LAST-MODIFIED:20180308T091801Z
UID:56325-1526025600-1526230800@klassikauto.pl
SUMMARY:11. GP de Monaco Historique
DESCRIPTION:
URL:https://klassikauto.pl/impreza/11-gp-de-monaco-historique/
END:VEVENT
BEGIN:VEVENT
DTSTART;TZID=Europe/Helsinki:20180511T080000
DTEND;TZID=Europe/Helsinki:20180513T170000
DTSTAMP:20260425T181847
CREATED:20180308T091841Z
LAST-MODIFIED:20180308T091841Z
UID:56327-1526025600-1526230800@klassikauto.pl
SUMMARY:VI Zlot Samochodów Amerykańskich i Zabytkowych
DESCRIPTION:
URL:https://klassikauto.pl/impreza/vi-zlot-samochodow-amerykanskich-i-zabytkowych/
LOCATION:Grudziądz
END:VEVENT
BEGIN:VEVENT
DTSTART;VALUE=DATE:20180512
DTEND;VALUE=DATE:20180514
DTSTAMP:20260425T181847
CREATED:20180308T092004Z
LAST-MODIFIED:20180424T200409Z
UID:56333-1526083200-1526255999@klassikauto.pl
SUMMARY:Klasykiem Wokół Komina
DESCRIPTION:
URL:https://klassikauto.pl/impreza/klasykiem-wokol-komina/
LOCATION:Siemianowice Śląskie
END:VEVENT
BEGIN:VEVENT
DTSTART;VALUE=DATE:20180512
DTEND;VALUE=DATE:20180514
DTSTAMP:20260425T181847
CREATED:20180424T191942Z
LAST-MODIFIED:20180424T192038Z
UID:59559-1526083200-1526255999@klassikauto.pl
SUMMARY:Otwarcie Sezonu 2018 Fiata 125p
DESCRIPTION:
URL:https://klassikauto.pl/impreza/otwarcie-sezonu-2018-fiata-125p/
LOCATION:Zakroczym
END:VEVENT
BEGIN:VEVENT
DTSTART;TZID=Europe/Helsinki:20180512T080000
DTEND;TZID=Europe/Helsinki:20180513T170000
DTSTAMP:20260425T181847
CREATED:20180308T092318Z
LAST-MODIFIED:20180308T092318Z
UID:56343-1526112000-1526230800@klassikauto.pl
SUMMARY:Moto Weteran Bazar\, Stadion SKS „START”
DESCRIPTION:
URL:https://klassikauto.pl/impreza/moto-weteran-bazar-stadion-sks-start/
LOCATION:Łódź
END:VEVENT
BEGIN:VEVENT
DTSTART;TZID=Europe/Helsinki:20180512T080000
DTEND;TZID=Europe/Helsinki:20180513T170000
DTSTAMP:20260425T181847
CREATED:20180308T092400Z
LAST-MODIFIED:20180308T092400Z
UID:56345-1526112000-1526230800@klassikauto.pl
SUMMARY:Oldtimertrefen
DESCRIPTION:
URL:https://klassikauto.pl/impreza/oldtimertrefen/
LOCATION:Speyer\, Niemcy
END:VEVENT
BEGIN:VEVENT
DTSTART;TZID=Europe/Helsinki:20180512T080000
DTEND;TZID=Europe/Helsinki:20180513T170000
DTSTAMP:20260425T181847
CREATED:20180308T092512Z
LAST-MODIFIED:20180308T092512Z
UID:56348-1526112000-1526230800@klassikauto.pl
SUMMARY:V Warsaw Oldtimer Show / Wystawa Oldtimer\,
DESCRIPTION:
URL:https://klassikauto.pl/impreza/v-warsaw-oldtimer-show-wystawa-oldtimer/
LOCATION:Nadarzyn k/Warszawy
END:VEVENT
BEGIN:VEVENT
DTSTART;TZID=Europe/Helsinki:20180512T080000
DTEND;TZID=Europe/Helsinki:20180513T170000
DTSTAMP:20260425T181847
CREATED:20180308T092551Z
LAST-MODIFIED:20180308T092551Z
UID:56351-1526112000-1526230800@klassikauto.pl
SUMMARY:II Wielkopolski Rajd Historyczny im. Henryka Rucińskiego
DESCRIPTION:
URL:https://klassikauto.pl/impreza/ii-wielkopolski-rajd-historyczny-im-henryka-rucinskiego/
END:VEVENT
BEGIN:VEVENT
DTSTART;VALUE=DATE:20180513
DTEND;VALUE=DATE:20180514
DTSTAMP:20260425T181847
CREATED:20180308T092632Z
LAST-MODIFIED:20180308T092632Z
UID:56353-1526169600-1526255999@klassikauto.pl
SUMMARY:Rozpoczęcie Sezonu Klasycznego 2018 z Youngtimer
DESCRIPTION:
URL:https://klassikauto.pl/impreza/rozpoczecie-sezonu-klasycznego-2018-z-youngtimer/
LOCATION:Nowy Sącz
END:VEVENT
BEGIN:VEVENT
DTSTART;VALUE=DATE:20180513
DTEND;VALUE=DATE:20180514
DTSTAMP:20260425T181847
CREATED:20180308T092656Z
LAST-MODIFIED:20180308T092656Z
UID:56356-1526169600-1526255999@klassikauto.pl
SUMMARY:Powitanie Sezonu 2018 Skierniewickie Klasyki
DESCRIPTION:
URL:https://klassikauto.pl/impreza/powitanie-sezonu-2018-skierniewickie-klasyki/
END:VEVENT
BEGIN:VEVENT
DTSTART;VALUE=DATE:20180513
DTEND;VALUE=DATE:20180514
DTSTAMP:20260425T181847
CREATED:20180308T092728Z
LAST-MODIFIED:20180308T092728Z
UID:56358-1526169600-1526255999@klassikauto.pl
SUMMARY:II Zlot Klasycznych Motocykli w Proszowicach
DESCRIPTION:
URL:https://klassikauto.pl/impreza/ii-zlot-klasycznych-motocykli-w-proszowicach/
END:VEVENT
BEGIN:VEVENT
DTSTART;VALUE=DATE:20180513
DTEND;VALUE=DATE:20180514
DTSTAMP:20260425T181847
CREATED:20180509T171326Z
LAST-MODIFIED:20180509T171326Z
UID:59961-1526169600-1526255999@klassikauto.pl
SUMMARY:3 Królewski Rajd Pojazdów Zabytkowych
DESCRIPTION:
URL:https://klassikauto.pl/impreza/3-krolewski-rajd-pojazdow-zabytkowych/
LOCATION:Warszawa
END:VEVENT
BEGIN:VEVENT
DTSTART;TZID=Europe/Helsinki:20180513T140000
DTEND;TZID=Europe/Helsinki:20180513T170000
DTSTAMP:20260425T181847
CREATED:20180415T080231Z
LAST-MODIFIED:20180415T080231Z
UID:59245-1526220000-1526230800@klassikauto.pl
SUMMARY:I Pierwsze spotkanie Silesia Youngtimer
DESCRIPTION:
URL:https://klassikauto.pl/impreza/i-pierwsze-spotkanie-silesia-youngtimer/
LOCATION:Katowice
END:VEVENT
BEGIN:VEVENT
DTSTART;TZID=Europe/Helsinki:20180513T150000
DTEND;TZID=Europe/Helsinki:20180513T170000
DTSTAMP:20260425T181847
CREATED:20180415T080002Z
LAST-MODIFIED:20180415T080002Z
UID:59243-1526223600-1526230800@klassikauto.pl
SUMMARY:II spot z Tyskim Ruchem Klasyków
DESCRIPTION:
URL:https://klassikauto.pl/impreza/ii-spot-z-tyskim-ruchem-klasykow/
LOCATION:Tychy
END:VEVENT
END:VCALENDAR
<!-- RunCloud Hub 2026-04-25 17:18:47 -->