BEGIN:VCALENDAR
VERSION:2.0
PRODID:-//KlassikAuto.pl - ECPv6.7.0//NONSGML v1.0//EN
CALSCALE:GREGORIAN
METHOD:PUBLISH
X-ORIGINAL-URL:https://klassikauto.pl
X-WR-CALDESC:Wydarzenia dla KlassikAuto.pl
REFRESH-INTERVAL;VALUE=DURATION:PT1H
X-Robots-Tag:noindex
X-PUBLISHED-TTL:PT1H
BEGIN:VTIMEZONE
TZID:Europe/Helsinki
BEGIN:DAYLIGHT
TZOFFSETFROM:+0200
TZOFFSETTO:+0300
TZNAME:EEST
DTSTART:20180325T010000
END:DAYLIGHT
BEGIN:STANDARD
TZOFFSETFROM:+0300
TZOFFSETTO:+0200
TZNAME:EET
DTSTART:20181028T010000
END:STANDARD
END:VTIMEZONE
BEGIN:VEVENT
DTSTART;VALUE=DATE:20180101
DTEND;VALUE=DATE:20180409
DTSTAMP:20260425T195941
CREATED:20180415T112527Z
LAST-MODIFIED:20180415T112527Z
UID:59318-1514764800-1523231999@klassikauto.pl
SUMMARY:50 lat AMG  - wystawa
DESCRIPTION:Mercedes Benz Muzeum
URL:https://klassikauto.pl/impreza/50-lat-amg-wystawa/
LOCATION:Stuttgart\, Niemcy
END:VEVENT
BEGIN:VEVENT
DTSTART;VALUE=DATE:20180101
DTEND;VALUE=DATE:20180701
DTSTAMP:20260425T195941
CREATED:20180415T112652Z
LAST-MODIFIED:20180415T112652Z
UID:59320-1514764800-1530403199@klassikauto.pl
SUMMARY:Samochodem na wycieczkę i inne rozrywki lat 60-tych - wystawa
DESCRIPTION:Słoweńskie Muzeum Techniki\,  Bratysława
URL:https://klassikauto.pl/impreza/samochodem-na-wycieczke-i-inne-rozrywki-lat-60-tych-wystawa/
LOCATION:Bratysława\, Słowacja
END:VEVENT
BEGIN:VEVENT
DTSTART;TZID=Europe/Helsinki:20180331T080000
DTEND;TZID=Europe/Helsinki:20180429T170000
DTSTAMP:20260425T195941
CREATED:20180308T070900Z
LAST-MODIFIED:20180308T070900Z
UID:56191-1522483200-1525021200@klassikauto.pl
SUMMARY:Wystawa – Citroën 2 Chevaux – 2PK 70th Anniversary
DESCRIPTION:
URL:https://klassikauto.pl/impreza/wystawa-citroen-2-chevaux-2pk-70th-anniversary/
LOCATION:Museum Autoworld\, Bruksela\, Belgium
END:VEVENT
BEGIN:VEVENT
DTSTART;TZID=Europe/Helsinki:20180405T080000
DTEND;TZID=Europe/Helsinki:20180408T170000
DTSTAMP:20260425T195941
CREATED:20180308T071612Z
LAST-MODIFIED:20180308T071641Z
UID:56197-1522915200-1523206800@klassikauto.pl
SUMMARY:Motor Show Poznań
DESCRIPTION:
URL:https://klassikauto.pl/impreza/motor-show-poznan/
LOCATION:Poznań
END:VEVENT
BEGIN:VEVENT
DTSTART;VALUE=DATE:20180406
DTEND;VALUE=DATE:20180409
DTSTAMP:20260425T195941
CREATED:20180402T070607Z
LAST-MODIFIED:20190312T192957Z
UID:58967-1522972800-1523231999@klassikauto.pl
SUMMARY:2. Rajd Memoriał Janusza Kuliga i Mariana Bublewicza
DESCRIPTION:
URL:https://klassikauto.pl/impreza/12-rajd-memorial-janusza-kuliga-i-mariana-bublewicza/
LOCATION:Wieliczka
END:VEVENT
BEGIN:VEVENT
DTSTART;TZID=Europe/Helsinki:20180406T080000
DTEND;TZID=Europe/Helsinki:20180408T170000
DTSTAMP:20260425T195941
CREATED:20180308T072818Z
LAST-MODIFIED:20180308T072818Z
UID:56204-1523001600-1523206800@klassikauto.pl
SUMMARY:Veterama
DESCRIPTION:
URL:https://klassikauto.pl/impreza/veterama/
LOCATION:Hockenheim\, Germany
END:VEVENT
BEGIN:VEVENT
DTSTART;VALUE=DATE:20180407
DTEND;VALUE=DATE:20180511
DTSTAMP:20260425T195941
CREATED:20180408T095705Z
LAST-MODIFIED:20180408T100411Z
UID:59215-1523059200-1525996799@klassikauto.pl
SUMMARY:100 lat motoryzacji w Polsce
DESCRIPTION:Wystawa na terenie: Muzeum Hutnictwa Cynku Walcownia w Katowicach
URL:https://klassikauto.pl/impreza/100-lat-motoryzacji-w-polsce/
LOCATION:Katowice
CATEGORIES:Wystawa
END:VEVENT
BEGIN:VEVENT
DTSTART;VALUE=DATE:20180408
DTEND;VALUE=DATE:20180409
DTSTAMP:20260425T195941
CREATED:20180308T073437Z
LAST-MODIFIED:20180308T073437Z
UID:56213-1523145600-1523231999@klassikauto.pl
SUMMARY:Matka siedzi z tyłu – rajd pojazdów zabytkowych
DESCRIPTION:
URL:https://klassikauto.pl/impreza/matka-siedzi-z-tylu-rajd-pojazdow-zabytkowych/
LOCATION:Warszawa
END:VEVENT
BEGIN:VEVENT
DTSTART;VALUE=DATE:20180408
DTEND;VALUE=DATE:20180409
DTSTAMP:20260425T195941
CREATED:20180415T085406Z
LAST-MODIFIED:20180415T085406Z
UID:59260-1523145600-1523231999@klassikauto.pl
SUMMARY:Trójmiejskie rozpoczęcie sezonu 2018
DESCRIPTION:
URL:https://klassikauto.pl/impreza/trojmiejskie-rozpoczecie-sezonu-2018/
LOCATION:Gdańsk
END:VEVENT
BEGIN:VEVENT
DTSTART;TZID=Europe/Helsinki:20180408T090000
DTEND;TZID=Europe/Helsinki:20180408T130000
DTSTAMP:20260425T195941
CREATED:20180415T101004Z
LAST-MODIFIED:20180415T101027Z
UID:59299-1523178000-1523192400@klassikauto.pl
SUMMARY:Klasyczna Niedziela - otwarcie sezonu 2018
DESCRIPTION:
URL:https://klassikauto.pl/impreza/klasyczna-niedziela-otwarcie-sezonu-2018/
LOCATION:Będzin
END:VEVENT
BEGIN:VEVENT
DTSTART;TZID=Europe/Helsinki:20180408T150000
DTEND;TZID=Europe/Helsinki:20180408T190000
DTSTAMP:20260425T195941
CREATED:20180402T140903Z
LAST-MODIFIED:20180402T141118Z
UID:59002-1523199600-1523214000@klassikauto.pl
SUMMARY:I Spot (Sezon 2018) - Chrzanowskie Klasyki Otwarcie Sezonu
DESCRIPTION:
URL:https://klassikauto.pl/impreza/i-spot-sezon-2018-chrzanowskie-klasyki-otwarcie-sezonu/
LOCATION:Babice
END:VEVENT
BEGIN:VEVENT
DTSTART;TZID=Europe/Helsinki:20180408T150000
DTEND;TZID=Europe/Helsinki:20180408T190000
DTSTAMP:20260425T195942
CREATED:20180408T102719Z
LAST-MODIFIED:20180408T102719Z
UID:59228-1523199600-1523214000@klassikauto.pl
SUMMARY:Chrzanowskie Klasyki Otwarcie Sezonu
DESCRIPTION:I spot (Sezon 2018)
URL:https://klassikauto.pl/impreza/chrzanowskie-klasyki-otwarcie-sezonu/
LOCATION:Babice
END:VEVENT
END:VCALENDAR
<!-- RunCloud Hub 2026-04-25 18:59:42 -->