BEGIN:VCALENDAR
VERSION:2.0
PRODID:-//KlassikAuto.pl - ECPv6.7.0//NONSGML v1.0//EN
CALSCALE:GREGORIAN
METHOD:PUBLISH
X-WR-CALNAME:KlassikAuto.pl
X-ORIGINAL-URL:https://klassikauto.pl
X-WR-CALDESC:Wydarzenia dla KlassikAuto.pl
REFRESH-INTERVAL;VALUE=DURATION:PT1H
X-Robots-Tag:noindex
X-PUBLISHED-TTL:PT1H
BEGIN:VTIMEZONE
TZID:Europe/Helsinki
BEGIN:DAYLIGHT
TZOFFSETFROM:+0200
TZOFFSETTO:+0300
TZNAME:EEST
DTSTART:20180325T010000
END:DAYLIGHT
BEGIN:STANDARD
TZOFFSETFROM:+0300
TZOFFSETTO:+0200
TZNAME:EET
DTSTART:20181028T010000
END:STANDARD
END:VTIMEZONE
BEGIN:VEVENT
DTSTART;VALUE=DATE:20180101
DTEND;VALUE=DATE:20180401
DTSTAMP:20260425T220103
CREATED:20180415T112804Z
LAST-MODIFIED:20180415T112846Z
UID:59324-1514764800-1522540799@klassikauto.pl
SUMMARY:Poznaj historię! Podróżuj w czasie z Volkswagenem Słowacją - wystawa
DESCRIPTION:Słoweńskie Muzeum Techniki\,  Bratysława
URL:https://klassikauto.pl/impreza/poznaj-historie-podrozuj-w-czasie-z-volkswagenem-slowacja-wystawa/
LOCATION:Bratysława\, Słowacja
END:VEVENT
BEGIN:VEVENT
DTSTART;VALUE=DATE:20180101
DTEND;VALUE=DATE:20180409
DTSTAMP:20260425T220103
CREATED:20180415T112527Z
LAST-MODIFIED:20180415T112527Z
UID:59318-1514764800-1523231999@klassikauto.pl
SUMMARY:50 lat AMG  - wystawa
DESCRIPTION:Mercedes Benz Muzeum
URL:https://klassikauto.pl/impreza/50-lat-amg-wystawa/
LOCATION:Stuttgart\, Niemcy
END:VEVENT
BEGIN:VEVENT
DTSTART;VALUE=DATE:20180101
DTEND;VALUE=DATE:20180701
DTSTAMP:20260425T220103
CREATED:20180415T112652Z
LAST-MODIFIED:20180415T112652Z
UID:59320-1514764800-1530403199@klassikauto.pl
SUMMARY:Samochodem na wycieczkę i inne rozrywki lat 60-tych - wystawa
DESCRIPTION:Słoweńskie Muzeum Techniki\,  Bratysława
URL:https://klassikauto.pl/impreza/samochodem-na-wycieczke-i-inne-rozrywki-lat-60-tych-wystawa/
LOCATION:Bratysława\, Słowacja
END:VEVENT
BEGIN:VEVENT
DTSTART;VALUE=DATE:20180317
DTEND;VALUE=DATE:20180318
DTSTAMP:20260425T220103
CREATED:20180308T064108Z
LAST-MODIFIED:20180308T064108Z
UID:56159-1521244800-1521331199@klassikauto.pl
SUMMARY:zlot charytatywny
DESCRIPTION:
URL:https://klassikauto.pl/impreza/zlot-charytatywny/
LOCATION:Żerków\, wielkopolskie
END:VEVENT
BEGIN:VEVENT
DTSTART;TZID=Europe/Helsinki:20180317T080000
DTEND;TZID=Europe/Helsinki:20180318T200000
DTSTAMP:20260425T220103
CREATED:20180308T064242Z
LAST-MODIFIED:20180308T064916Z
UID:56162-1521273600-1521403200@klassikauto.pl
SUMMARY:Auto Moto Classic
DESCRIPTION:
URL:https://klassikauto.pl/impreza/auto-moto-classic/
LOCATION:Ostróda
END:VEVENT
BEGIN:VEVENT
DTSTART;TZID=Europe/Helsinki:20180317T090000
DTEND;TZID=Europe/Helsinki:20180318T180000
DTSTAMP:20260425T220103
CREATED:20180308T065147Z
LAST-MODIFIED:20180308T065147Z
UID:56165-1521277200-1521396000@klassikauto.pl
SUMMARY:Technorama
DESCRIPTION:bezpośredni link: https://www.messen.de/de/8095/kassel/technorama-kassel/info
URL:https://klassikauto.pl/impreza/technorama/
LOCATION:Kassel\, Germany
END:VEVENT
END:VCALENDAR
<!-- RunCloud Hub 2026-04-25 21:01:03 -->